BEGIN:VCALENDAR
VERSION:2.0
PRODID:-//Baiturrahman Alam Sari - ECPv5.3.0//NONSGML v1.0//EN
CALSCALE:GREGORIAN
METHOD:PUBLISH
X-WR-CALNAME:Baiturrahman Alam Sari
X-ORIGINAL-URL:https://baiturrahman.my
X-WR-CALDESC:Events for Baiturrahman Alam Sari
BEGIN:VTIMEZONE
TZID:Asia/Kuala_Lumpur
BEGIN:STANDARD
TZOFFSETFROM:+0800
TZOFFSETTO:+0800
TZNAME:+08
DTSTART:20210101T000000
END:STANDARD
END:VTIMEZONE
BEGIN:VEVENT
DTSTART;TZID=Asia/Kuala_Lumpur:20210430T070000
DTEND;TZID=Asia/Kuala_Lumpur:20210430T080000
DTSTAMP:20260425T210623
CREATED:20220628T160311Z
LAST-MODIFIED:20220628T160311Z
UID:2457-1619766000-1619769600@baiturrahman.my
SUMMARY:Assalamualaikum TV AlHijrah
DESCRIPTION:LIVE Talk Show bersama Ustaz Elyas Ismail \n TV Al-Hijrah\n TV Al-Hijrah Siaran 114
URL:https://baiturrahman.my/event/assalamualaikum-tv-alhijrah-17/
ATTACH;FMTTYPE=image/jpeg:https://baiturrahman.my/wp-content/uploads/2022/06/30-4-21.jpg
END:VEVENT
BEGIN:VEVENT
DTSTART;TZID=Asia/Kuala_Lumpur:20210430T083000
DTEND;TZID=Asia/Kuala_Lumpur:20210430T093000
DTSTAMP:20260425T210623
CREATED:20220628T160507Z
LAST-MODIFIED:20220628T160507Z
UID:2458-1619771400-1619775000@baiturrahman.my
SUMMARY:Assalamualaikum TV AlHijrah
DESCRIPTION:LIVE Talk Show bersama Yang Berbahagia Ust. Dr. Haji Mohd Hafiz Fauzi \n TV Al-Hijrah\n TV Al-Hijrah Siaran 114
URL:https://baiturrahman.my/event/assalamualaikum-tv-alhijrah-18/
ATTACH;FMTTYPE=image/jpeg:https://baiturrahman.my/wp-content/uploads/2022/06/30-4-21-2.jpg
END:VEVENT
BEGIN:VEVENT
DTSTART;TZID=Asia/Kuala_Lumpur:20210502T083000
DTEND;TZID=Asia/Kuala_Lumpur:20210502T093000
DTSTAMP:20260425T210623
CREATED:20220628T160051Z
LAST-MODIFIED:20220628T160051Z
UID:2451-1619944200-1619947800@baiturrahman.my
SUMMARY:Assalamualaikum TV AlHijrah
DESCRIPTION:LIVE Talk Show bersama Yang Berbahagia Ustaz Dr. Khairul Anuar \n TV Al-Hijrah\n TV Al-Hijrah Siaran 114
URL:https://baiturrahman.my/event/assalamualaikum-tv-alhijrah-16/
ATTACH;FMTTYPE=image/jpeg:https://baiturrahman.my/wp-content/uploads/2022/06/2-5-21.jpg
END:VEVENT
BEGIN:VEVENT
DTSTART;TZID=Asia/Kuala_Lumpur:20210504T083000
DTEND;TZID=Asia/Kuala_Lumpur:20210504T093000
DTSTAMP:20260425T210623
CREATED:20220628T155920Z
LAST-MODIFIED:20220628T155920Z
UID:2452-1620117000-1620120600@baiturrahman.my
SUMMARY:Assalamualaikum TV AlHijrah
DESCRIPTION:LIVE Talk Show bersama Ustaz Fauwaz Fadzil \n TV Al-Hijrah\n TV Al-Hijrah Siaran 114
URL:https://baiturrahman.my/event/assalamualaikum-tv-alhijrah-15/
ATTACH;FMTTYPE=image/jpeg:https://baiturrahman.my/wp-content/uploads/2022/06/4-5-21.jpg
END:VEVENT
BEGIN:VEVENT
DTSTART;TZID=Asia/Kuala_Lumpur:20210506T080000
DTEND;TZID=Asia/Kuala_Lumpur:20210506T090000
DTSTAMP:20260425T210623
CREATED:20220628T155511Z
LAST-MODIFIED:20220628T155511Z
UID:2448-1620288000-1620291600@baiturrahman.my
SUMMARY:Assalamualaikum TV AlHijrah
DESCRIPTION:LIVE Talk Show bersama Ustaz Elyas Ismail \n TV Al-Hijrah\n TV Al-Hijrah Siaran 114
URL:https://baiturrahman.my/event/assalamualaikum-tv-alhijrah-14/
ATTACH;FMTTYPE=image/jpeg:https://baiturrahman.my/wp-content/uploads/2022/06/6-5-21.jpg
END:VEVENT
BEGIN:VEVENT
DTSTART;TZID=Asia/Kuala_Lumpur:20210507T080000
DTEND;TZID=Asia/Kuala_Lumpur:20210507T090000
DTSTAMP:20260425T210623
CREATED:20220628T155306Z
LAST-MODIFIED:20220628T155306Z
UID:2443-1620374400-1620378000@baiturrahman.my
SUMMARY:Assalamualaikum TV AlHijrah
DESCRIPTION:LIVE Talk Show bersama Yang Berbahagia Ustaz Hassan Adli; Pendakwah Bebas \n TV Al-Hijrah\n TV Al-Hijrah Siaran 114
URL:https://baiturrahman.my/event/assalamualaikum-tv-alhijrah-13/
ATTACH;FMTTYPE=image/jpeg:https://baiturrahman.my/wp-content/uploads/2022/06/7-5-21.jpg
END:VEVENT
BEGIN:VEVENT
DTSTART;TZID=Asia/Kuala_Lumpur:20210510T083000
DTEND;TZID=Asia/Kuala_Lumpur:20210510T093000
DTSTAMP:20260425T210623
CREATED:20220628T155122Z
LAST-MODIFIED:20220628T155122Z
UID:2440-1620635400-1620639000@baiturrahman.my
SUMMARY:Assalamualaikum TV AlHijrah
DESCRIPTION:LIVE Talk Show bersama Ustaz Elyas Ismail \n TV Al-Hijrah\n TV Al-Hijrah Siaran 114
URL:https://baiturrahman.my/event/assalamualaikum-tv-alhijrah-12/
ATTACH;FMTTYPE=image/jpeg:https://baiturrahman.my/wp-content/uploads/2022/06/10-5-21.jpg
END:VEVENT
BEGIN:VEVENT
DTSTART;TZID=Asia/Kuala_Lumpur:20210512T083000
DTEND;TZID=Asia/Kuala_Lumpur:20210512T093000
DTSTAMP:20260425T210623
CREATED:20220628T154859Z
LAST-MODIFIED:20220628T154859Z
UID:2437-1620808200-1620811800@baiturrahman.my
SUMMARY:Assalamualaikum TV AlHijrah
DESCRIPTION:LIVE Talk Show bersama  Yang Berbahagia Ustaz Hassan Adli; Pendakwah Bebas \n TV Al-Hijrah\n TV Al-Hijrah Siaran 114
URL:https://baiturrahman.my/event/assalamualaikum-tv-alhijrah-11/
ATTACH;FMTTYPE=image/jpeg:https://baiturrahman.my/wp-content/uploads/2022/06/12-5-21.jpg
END:VEVENT
BEGIN:VEVENT
DTSTART;TZID=Asia/Kuala_Lumpur:20210529T210000
DTEND;TZID=Asia/Kuala_Lumpur:20210529T220000
DTSTAMP:20260425T210623
CREATED:20220628T154143Z
LAST-MODIFIED:20220628T154143Z
UID:2435-1622322000-1622325600@baiturrahman.my
SUMMARY:Miskin Dunia VS Miskin Akhirat
DESCRIPTION:LIVE bersama Ustaz Elyas Ismail \n Masjid Baiturrahman Alam Sari
URL:https://baiturrahman.my/event/miskin-dunia-vs-miskin-akhirat/
ATTACH;FMTTYPE=image/jpeg:https://baiturrahman.my/wp-content/uploads/2022/06/29-5-21.jpg
END:VEVENT
END:VCALENDAR