BEGIN:VCALENDAR
VERSION:2.0
PRODID:-//Baiturrahman Alam Sari - ECPv5.3.0//NONSGML v1.0//EN
CALSCALE:GREGORIAN
METHOD:PUBLISH
X-WR-CALNAME:Baiturrahman Alam Sari
X-ORIGINAL-URL:https://baiturrahman.my
X-WR-CALDESC:Events for Baiturrahman Alam Sari
BEGIN:VTIMEZONE
TZID:Asia/Kuala_Lumpur
BEGIN:STANDARD
TZOFFSETFROM:+0800
TZOFFSETTO:+0800
TZNAME:+08
DTSTART:20220101T000000
END:STANDARD
END:VTIMEZONE
BEGIN:VEVENT
DTSTART;TZID=Asia/Kuala_Lumpur:20220427T080000
DTEND;TZID=Asia/Kuala_Lumpur:20220427T100000
DTSTAMP:20260425T021122
CREATED:20220628T151426Z
LAST-MODIFIED:20240710T130229Z
UID:2401-1651046400-1651053600@baiturrahman.my
SUMMARY:Assalamualaikum TV AlHijrah
DESCRIPTION:LIVE Talk Show bersama Ustaz Elyas Ismail \n TV Al-Hijrah\n TV Al-Hijrah Siaran 114
URL:https://baiturrahman.my/event/assalamualaikum-tv-alhijrah-3/
ATTACH;FMTTYPE=image/jpeg:https://baiturrahman.my/wp-content/uploads/2022/06/27-4-22.jpg
END:VEVENT
BEGIN:VEVENT
DTSTART;TZID=Asia/Kuala_Lumpur:20220428T083000
DTEND;TZID=Asia/Kuala_Lumpur:20220428T100000
DTSTAMP:20260425T021122
CREATED:20220628T151236Z
LAST-MODIFIED:20220628T151236Z
UID:2398-1651134600-1651140000@baiturrahman.my
SUMMARY:Assalamualaikum TV AlHijrah
DESCRIPTION:LIVE Serentak pagi Khamis TV AlHijrah & TV3 bersama Ustaz Elyas Ismail \n TV Al-Hijrah\n TV Al-Hijrah Siaran 114
URL:https://baiturrahman.my/event/assalamualaikum-tv-alhijrah-2/
ATTACH;FMTTYPE=image/jpeg:https://baiturrahman.my/wp-content/uploads/2022/06/28-4-22.jpg
END:VEVENT
BEGIN:VEVENT
DTSTART;TZID=Asia/Kuala_Lumpur:20220506T080000
DTEND;TZID=Asia/Kuala_Lumpur:20220506T100000
DTSTAMP:20260425T021122
CREATED:20220628T150652Z
LAST-MODIFIED:20220628T150857Z
UID:2395-1651824000-1651831200@baiturrahman.my
SUMMARY:Assalamualaikum TV AlHijrah
DESCRIPTION:LIVE Talk Show bersama Ustaz Elyas Ismail \n TV Al-Hijrah\n TV Al-Hijrah Siaran 114
URL:https://baiturrahman.my/event/assalamualaikum-tv-alhijrah/
ATTACH;FMTTYPE=image/jpeg:https://baiturrahman.my/wp-content/uploads/2022/06/6-5-22.jpg
END:VEVENT
END:VCALENDAR