BEGIN:VCALENDAR
VERSION:2.0
PRODID:-//Baiturrahman Alam Sari - ECPv5.3.0//NONSGML v1.0//EN
CALSCALE:GREGORIAN
METHOD:PUBLISH
X-WR-CALNAME:Baiturrahman Alam Sari
X-ORIGINAL-URL:https://baiturrahman.my
X-WR-CALDESC:Events for Baiturrahman Alam Sari
BEGIN:VTIMEZONE
TZID:Asia/Kuala_Lumpur
BEGIN:STANDARD
TZOFFSETFROM:+0800
TZOFFSETTO:+0800
TZNAME:+08
DTSTART:20220101T000000
END:STANDARD
END:VTIMEZONE
BEGIN:VEVENT
DTSTART;TZID=Asia/Kuala_Lumpur:20220705T080000
DTEND;TZID=Asia/Kuala_Lumpur:20220705T170000
DTSTAMP:20260424T230347
CREATED:20220705T160538Z
LAST-MODIFIED:20220717T161427Z
UID:2585-1657008000-1657040400@baiturrahman.my
SUMMARY:Bertemu dengan Pewaqaf
DESCRIPTION:Wakil Protem MBAS (setiausaha) En.Hafidz Abdul Kudus serta dihadiri En.Razak & En.Hisyam Bachek telah berkesempatan bertemu dgn pewaqaf drpd qariah Masjid Al Umm Bdr.Baru Bangi Hj.Fauzi & Hjh.Latiffah yang telah sudi berwaqaf Rm30\,000 utk Pembinaan Masjid Baiturrahman Alam Sari. Alhamdulillah dgn keizinan Allah swt. pertemuan tersebut dpt menyerahkan sijil waqaf dan sedikit cenderahati buat Hj.Fauzi & Hjh.Latiffah.
URL:https://baiturrahman.my/event/bertemu-dengan-pewaqaf/
ATTACH;FMTTYPE=image/jpeg:https://baiturrahman.my/wp-content/uploads/2022/07/WhatsApp-Image-2022-07-14-at-3.41.53-PM.jpeg
END:VEVENT
BEGIN:VEVENT
DTSTART;TZID=Asia/Kuala_Lumpur:20220706T080000
DTEND;TZID=Asia/Kuala_Lumpur:20220706T170000
DTSTAMP:20260424T230347
CREATED:20220706T160322Z
LAST-MODIFIED:20220717T161551Z
UID:2578-1657094400-1657126800@baiturrahman.my
SUMMARY:Bekunjung ke Rumah Makcik Siti Fatimah
DESCRIPTION:Wakil protem yg diketuai Timb. Pengerusi Protem MBAS Dato’ Fadzilah Mohd Salleh & En.Hisyam Bachek telah berkesempatan dapat menyantuni & berkunjung ke rumah Makcik Siti Fatimah yang telah sudi berwaqaf Rm30\,000 utk Pembinaan masjid Baiturrahman baru² ini. Alhamdulillah dgn keizinan Allah swt. pertemuan semlm dpt menyerahkan sijil waqaf dan sedikit cenderahati pada buat Makcik Siti Fatimah sekeluarga.
URL:https://baiturrahman.my/event/bekunjung-ke-rumah-makcik-siti-fatimah/
ATTACH;FMTTYPE=image/jpeg:https://baiturrahman.my/wp-content/uploads/2022/07/WhatsApp-Image-2022-07-14-at-3.41.17-PM.jpeg
END:VEVENT
BEGIN:VEVENT
DTSTART;TZID=Asia/Kuala_Lumpur:20220716T083000
DTEND;TZID=Asia/Kuala_Lumpur:20220716T093000
DTSTAMP:20260424T230347
CREATED:20220717T160841Z
LAST-MODIFIED:20220717T160841Z
UID:2587-1657960200-1657963800@baiturrahman.my
SUMMARY:Assalamualaikum TV Al-Hijrah
DESCRIPTION:LIVE Talk Show bersama Dato Syed Jaafar Syed Ibrahim \n TV Al-Hijrah\n TV Al-Hijrah Siaran 114
URL:https://baiturrahman.my/event/assalamualaikum-tv-al-hijrah-3/
ATTACH;FMTTYPE=image/jpeg:https://baiturrahman.my/wp-content/uploads/2022/07/WhatsApp-Image-2022-07-14-at-3.44.38-PM.jpeg
END:VEVENT
END:VCALENDAR