BEGIN:VCALENDAR
VERSION:2.0
PRODID:-//Baiturrahman Alam Sari - ECPv5.3.0//NONSGML v1.0//EN
CALSCALE:GREGORIAN
METHOD:PUBLISH
X-WR-CALNAME:Baiturrahman Alam Sari
X-ORIGINAL-URL:https://baiturrahman.my
X-WR-CALDESC:Events for Baiturrahman Alam Sari
BEGIN:VTIMEZONE
TZID:Asia/Kuala_Lumpur
BEGIN:STANDARD
TZOFFSETFROM:+0800
TZOFFSETTO:+0800
TZNAME:+08
DTSTART:20220101T000000
END:STANDARD
END:VTIMEZONE
BEGIN:VEVENT
DTSTART;TZID=Asia/Kuala_Lumpur:20220716T083000
DTEND;TZID=Asia/Kuala_Lumpur:20220716T093000
DTSTAMP:20260419T231558
CREATED:20220717T160841Z
LAST-MODIFIED:20220717T160841Z
UID:2587-1657960200-1657963800@baiturrahman.my
SUMMARY:Assalamualaikum TV Al-Hijrah
DESCRIPTION:LIVE Talk Show bersama Dato Syed Jaafar Syed Ibrahim \n TV Al-Hijrah\n TV Al-Hijrah Siaran 114
URL:https://baiturrahman.my/event/assalamualaikum-tv-al-hijrah-3/
ATTACH;FMTTYPE=image/jpeg:https://baiturrahman.my/wp-content/uploads/2022/07/WhatsApp-Image-2022-07-14-at-3.44.38-PM.jpeg
END:VEVENT
END:VCALENDAR